BEGIN:VCALENDAR
VERSION:2.0
PRODID:-//AusschreibungsRadar//Timeline//DE
CALSCALE:GREGORIAN
METHOD:PUBLISH
X-WR-CALNAME:Projekt Innentüren Holz SOS-Kinderdorf Bernburg
X-WR-TIMEZONE:Europe/Berlin
BEGIN:VEVENT
UID:0c9b1f95ee8a659c@ausschreibungsradar.com
DTSTAMP:20260424T053816Z
DTSTART;VALUE=DATE:20250206
DTEND;VALUE=DATE:20250206
SUMMARY:Ausschreibung — Innentüren Holz SOS-Kinderdorf Bernburg
DESCRIPTION:Phase: Ausschreibung | Beschreibung: Offizielle Ausschreibung mit Bieterfrist. | Link: https://ausschreibungsradar.com/ausschreibung/23376668/
URL:https://ausschreibungsradar.com/ausschreibung/23376668/
END:VEVENT
BEGIN:VEVENT
UID:753e5be995b1bce3@ausschreibungsradar.com
DTSTAMP:20260424T053816Z
DTSTART;VALUE=DATE:20250227
DTEND;VALUE=DATE:20250227
SUMMARY:Ausschreibung — Innentüren Holz SOS-Kinderdorf Bernburg
DESCRIPTION:Phase: Ausschreibung | Beschreibung: Offizielle Ausschreibung mit Bieterfrist. | Link: https://ausschreibungsradar.com/ausschreibung/23479564/
URL:https://ausschreibungsradar.com/ausschreibung/23479564/
END:VEVENT
END:VCALENDAR
