BEGIN:VCALENDAR
VERSION:2.0
PRODID:-//AusschreibungsRadar//Timeline//DE
CALSCALE:GREGORIAN
METHOD:PUBLISH
X-WR-CALNAME:Projekt Mörs:DORF Begegnungs- und Lernort mit KiTA ? Fugenarbeiten
X-WR-TIMEZONE:Europe/Berlin
BEGIN:VEVENT
UID:b45791c64e3980f6@ausschreibungsradar.com
DTSTAMP:20260424T111428Z
DTSTART;VALUE=DATE:20250207
DTEND;VALUE=DATE:20250207
SUMMARY:Ausschreibung — Mörs:DORF Begegnungs- und Lernort mit KiTA ? Fugenarbeiten
DESCRIPTION:Phase: Ausschreibung | Beschreibung: Offizielle Ausschreibung mit Bieterfrist. | Link: https://ausschreibungsradar.com/ausschreibung/23380952/
URL:https://ausschreibungsradar.com/ausschreibung/23380952/
END:VEVENT
BEGIN:VEVENT
UID:0328bc97f8d52da7@ausschreibungsradar.com
DTSTAMP:20260424T111428Z
DTSTART;VALUE=DATE:20250207
DTEND;VALUE=DATE:20250207
SUMMARY:Ausschreibung — Mörs:DORF Begegnungs- und Lernort mit KiTA ? Fugenarbeiten
DESCRIPTION:Phase: Ausschreibung | Beschreibung: Offizielle Ausschreibung mit Bieterfrist. | Link: https://ausschreibungsradar.com/ausschreibung/23380936/
URL:https://ausschreibungsradar.com/ausschreibung/23380936/
END:VEVENT
BEGIN:VEVENT
UID:7deb95dd8480a731@ausschreibungsradar.com
DTSTAMP:20260424T111428Z
DTSTART;VALUE=DATE:20250207
DTEND;VALUE=DATE:20250207
SUMMARY:Ausschreibung — Mörs:DORF Begegnungs- und Lernort mit KiTA ? Fugenarbeiten
DESCRIPTION:Phase: Ausschreibung | Beschreibung: Offizielle Ausschreibung mit Bieterfrist. | Link: https://ausschreibungsradar.com/ausschreibung/23380948/
URL:https://ausschreibungsradar.com/ausschreibung/23380948/
END:VEVENT
END:VCALENDAR
