BEGIN:VCALENDAR
VERSION:2.0
PRODID:-//AusschreibungsRadar//Timeline//DE
CALSCALE:GREGORIAN
METHOD:PUBLISH
X-WR-CALNAME:Projekt Freiberg, Herstellung der Schmutz- und Regenwasserkanalisati
X-WR-TIMEZONE:Europe/Berlin
BEGIN:VEVENT
UID:417679db42274be8@ausschreibungsradar.com
DTSTAMP:20260424T191944Z
DTSTART;VALUE=DATE:20250210
DTEND;VALUE=DATE:20250210
SUMMARY:Ausschreibung — Freiberg\, Herstellung der Schmutz- und Regenwasserkanalisati
DESCRIPTION:Phase: Ausschreibung | Beschreibung: Offizielle Ausschreibung mit Bieterfrist. | Link: https://ausschreibungsradar.com/ausschreibung/23391598/
URL:https://ausschreibungsradar.com/ausschreibung/23391598/
END:VEVENT
BEGIN:VEVENT
UID:60d0c6a8d2d5cd34@ausschreibungsradar.com
DTSTAMP:20260424T191944Z
DTSTART;VALUE=DATE:20250211
DTEND;VALUE=DATE:20250211
SUMMARY:Ausschreibung — Freiberg\, Herstellung der Schmutz- und Regenwasserkanalisati
DESCRIPTION:Phase: Ausschreibung | Beschreibung: Offizielle Ausschreibung mit Bieterfrist. | Link: https://ausschreibungsradar.com/ausschreibung/23397454/
URL:https://ausschreibungsradar.com/ausschreibung/23397454/
END:VEVENT
END:VCALENDAR
