BEGIN:VCALENDAR
VERSION:2.0
PRODID:-//AusschreibungsRadar//Timeline//DE
CALSCALE:GREGORIAN
METHOD:PUBLISH
X-WR-CALNAME:Projekt Abwasser-, Wasser und Gasanlagen - Neubau eines Sozialgebäud
X-WR-TIMEZONE:Europe/Berlin
BEGIN:VEVENT
UID:fb12eec34a8df602@ausschreibungsradar.com
DTSTAMP:20260425T022752Z
DTSTART;VALUE=DATE:20250211
DTEND;VALUE=DATE:20250211
SUMMARY:Ausschreibung — Abwasser-\, Wasser und Gasanlagen - Neubau eines Sozialgebäud
DESCRIPTION:Phase: Ausschreibung | Beschreibung: Offizielle Ausschreibung mit Bieterfrist. | Link: https://ausschreibungsradar.com/ausschreibung/23401698/
URL:https://ausschreibungsradar.com/ausschreibung/23401698/
END:VEVENT
BEGIN:VEVENT
UID:4882071421323e75@ausschreibungsradar.com
DTSTAMP:20260425T022752Z
DTSTART;VALUE=DATE:20250217
DTEND;VALUE=DATE:20250217
SUMMARY:Ausschreibung — Abwasser-\, Wasser und Gasanlagen - Neubau eines Sozialgebäud
DESCRIPTION:Phase: Ausschreibung | Beschreibung: Offizielle Ausschreibung mit Bieterfrist. | Link: https://ausschreibungsradar.com/ausschreibung/23431920/
URL:https://ausschreibungsradar.com/ausschreibung/23431920/
END:VEVENT
END:VCALENDAR
