BEGIN:VCALENDAR
VERSION:2.0
PRODID:-//AusschreibungsRadar//Timeline//DE
CALSCALE:GREGORIAN
METHOD:PUBLISH
X-WR-CALNAME:Projekt Gemeinde Tappenbeck: Neubau eines Sport- und Gemeinschaftspa
X-WR-TIMEZONE:Europe/Berlin
BEGIN:VEVENT
UID:58fe237d85989c6f@ausschreibungsradar.com
DTSTAMP:20260424T085216Z
DTSTART;VALUE=DATE:20250207
DTEND;VALUE=DATE:20250207
SUMMARY:Ausschreibung — Gemeinde Tappenbeck: Neubau eines Sport- und Gemeinschaftspa
DESCRIPTION:Phase: Ausschreibung | Beschreibung: Offizielle Ausschreibung mit Bieterfrist. | Link: https://ausschreibungsradar.com/ausschreibung/23385076/
URL:https://ausschreibungsradar.com/ausschreibung/23385076/
END:VEVENT
BEGIN:VEVENT
UID:92083ecf3b43c294@ausschreibungsradar.com
DTSTAMP:20260424T085216Z
DTSTART;VALUE=DATE:20250218
DTEND;VALUE=DATE:20250218
SUMMARY:Ausschreibung — Gemeinde Tappenbeck: Neubau eines Sport- und Gemeinschaftspa
DESCRIPTION:Phase: Ausschreibung | Beschreibung: Offizielle Ausschreibung mit Bieterfrist. | Link: https://ausschreibungsradar.com/ausschreibung/23434214/
URL:https://ausschreibungsradar.com/ausschreibung/23434214/
END:VEVENT
BEGIN:VEVENT
UID:9d265043a05a0405@ausschreibungsradar.com
DTSTAMP:20260424T085216Z
DTSTART;VALUE=DATE:20250221
DTEND;VALUE=DATE:20250221
SUMMARY:Ausschreibung — Gemeinde Tappenbeck: Neubau eines Sport- und Gemeinschaftspa
DESCRIPTION:Phase: Ausschreibung | Beschreibung: Offizielle Ausschreibung mit Bieterfrist. | Link: https://ausschreibungsradar.com/ausschreibung/3a5729a5-9dfa-4c92-9d36-56a5771ab83d/
URL:https://ausschreibungsradar.com/ausschreibung/3a5729a5-9dfa-4c92-9d36-56a5771ab83d/
END:VEVENT
BEGIN:VEVENT
UID:786d21b64d041d50@ausschreibungsradar.com
DTSTAMP:20260424T085216Z
DTSTART;VALUE=DATE:20250221
DTEND;VALUE=DATE:20250221
SUMMARY:Ausschreibung — Gemeinde Tappenbeck: Neubau eines Sport- und Gemeinschaftspa
DESCRIPTION:Phase: Ausschreibung | Beschreibung: Offizielle Ausschreibung mit Bieterfrist. | Link: https://ausschreibungsradar.com/ausschreibung/edb6fab8-1c69-41b2-9b08-2cafe37077d7/
URL:https://ausschreibungsradar.com/ausschreibung/edb6fab8-1c69-41b2-9b08-2cafe37077d7/
END:VEVENT
BEGIN:VEVENT
UID:2756f2de2f49f0dd@ausschreibungsradar.com
DTSTAMP:20260424T085216Z
DTSTART;VALUE=DATE:20250221
DTEND;VALUE=DATE:20250221
SUMMARY:Ausschreibung — Gemeinde Tappenbeck: Neubau eines Sport- und Gemeinschaftspa
DESCRIPTION:Phase: Ausschreibung | Beschreibung: Offizielle Ausschreibung mit Bieterfrist. | Link: https://ausschreibungsradar.com/ausschreibung/7ecef94f-359f-439d-94a1-28e7bc4f6db7/
URL:https://ausschreibungsradar.com/ausschreibung/7ecef94f-359f-439d-94a1-28e7bc4f6db7/
END:VEVENT
BEGIN:VEVENT
UID:30ccd3af392225ef@ausschreibungsradar.com
DTSTAMP:20260424T085216Z
DTSTART;VALUE=DATE:20250221
DTEND;VALUE=DATE:20250221
SUMMARY:Ausschreibung — Gemeinde Tappenbeck: Neubau eines Sport- und Gemeinschaftspa
DESCRIPTION:Phase: Ausschreibung | Beschreibung: Offizielle Ausschreibung mit Bieterfrist. | Link: https://ausschreibungsradar.com/ausschreibung/fb350ac7-2bf1-4cb5-a10f-3a229f9467bf/
URL:https://ausschreibungsradar.com/ausschreibung/fb350ac7-2bf1-4cb5-a10f-3a229f9467bf/
END:VEVENT
END:VCALENDAR
