BEGIN:VCALENDAR
VERSION:2.0
PRODID:-//AusschreibungsRadar//Timeline//DE
CALSCALE:GREGORIAN
METHOD:PUBLISH
X-WR-CALNAME:Projekt Ersatzneubau Einfeldsporthalle Bergwitz - Bauendreinigung
X-WR-TIMEZONE:Europe/Berlin
BEGIN:VEVENT
UID:7b9ef0467bd7a7b7@ausschreibungsradar.com
DTSTAMP:20260423T232933Z
DTSTART;VALUE=DATE:20250219
DTEND;VALUE=DATE:20250219
SUMMARY:Ausschreibung — Ersatzneubau Einfeldsporthalle Bergwitz - Bauendreinigung
DESCRIPTION:Phase: Ausschreibung | Beschreibung: Offizielle Ausschreibung mit Bieterfrist. | Link: https://ausschreibungsradar.com/ausschreibung/23438312/
URL:https://ausschreibungsradar.com/ausschreibung/23438312/
END:VEVENT
BEGIN:VEVENT
UID:0688605cb38522a9@ausschreibungsradar.com
DTSTAMP:20260423T232933Z
DTSTART;VALUE=DATE:20250303
DTEND;VALUE=DATE:20250303
SUMMARY:Ausschreibung — Ersatzneubau Einfeldsporthalle Bergwitz - Bauendreinigung
DESCRIPTION:Phase: Ausschreibung | Beschreibung: Offizielle Ausschreibung mit Bieterfrist. | Link: https://ausschreibungsradar.com/ausschreibung/23497782/
URL:https://ausschreibungsradar.com/ausschreibung/23497782/
END:VEVENT
BEGIN:VEVENT
UID:6b26a3ffe52876a0@ausschreibungsradar.com
DTSTAMP:20260423T232933Z
DTSTART;VALUE=DATE:20250306
DTEND;VALUE=DATE:20250306
SUMMARY:Ausschreibung — Ersatzneubau Einfeldsporthalle Bergwitz - Bauendreinigung
DESCRIPTION:Phase: Ausschreibung | Beschreibung: Offizielle Ausschreibung mit Bieterfrist. | Link: https://ausschreibungsradar.com/ausschreibung/23515498/
URL:https://ausschreibungsradar.com/ausschreibung/23515498/
END:VEVENT
END:VCALENDAR
