BEGIN:VCALENDAR
VERSION:2.0
PRODID:-//AusschreibungsRadar//Timeline//DE
CALSCALE:GREGORIAN
METHOD:PUBLISH
X-WR-CALNAME:Projekt Oberbergkirchen: Neubau Kinderhort Oberbergkirchen, Innentür
X-WR-TIMEZONE:Europe/Berlin
BEGIN:VEVENT
UID:6bfa9a8a89e429a1@ausschreibungsradar.com
DTSTAMP:20260425T102404Z
DTSTART;VALUE=DATE:20250221
DTEND;VALUE=DATE:20250221
SUMMARY:Zuschlag — Oberbergkirchen: Neubau Kinderhort Oberbergkirchen\, Innentür
DESCRIPTION:Phase: Zuschlag | Beschreibung: Vergabeergebnis — Auftrag wurde erteilt oder Verfahren beendet. | Link: https://ausschreibungsradar.com/ausschreibung/23457058/
URL:https://ausschreibungsradar.com/ausschreibung/23457058/
END:VEVENT
BEGIN:VEVENT
UID:6d5cdbf2ce261125@ausschreibungsradar.com
DTSTAMP:20260425T102404Z
DTSTART;VALUE=DATE:20250224
DTEND;VALUE=DATE:20250224
SUMMARY:Zuschlag — Oberbergkirchen: Neubau Kinderhort Oberbergkirchen\, Innentür
DESCRIPTION:Phase: Zuschlag | Beschreibung: Vergabeergebnis — Auftrag wurde erteilt oder Verfahren beendet. | Link: https://ausschreibungsradar.com/ausschreibung/23467388/
URL:https://ausschreibungsradar.com/ausschreibung/23467388/
END:VEVENT
END:VCALENDAR
