BEGIN:VCALENDAR
VERSION:2.0
PRODID:-//AusschreibungsRadar//Timeline//DE
CALSCALE:GREGORIAN
METHOD:PUBLISH
X-WR-CALNAME:Projekt Neubau Kita "Lobstädter Würmchen" - Los 07 - Aluminiumelemen
X-WR-TIMEZONE:Europe/Berlin
BEGIN:VEVENT
UID:26f35768093e3b35@ausschreibungsradar.com
DTSTAMP:20260424T102640Z
DTSTART;VALUE=DATE:20250228
DTEND;VALUE=DATE:20250228
SUMMARY:Ausschreibung — Neubau Kita "Lobstädter Würmchen" - Los 07 - Aluminiumelemen
DESCRIPTION:Phase: Ausschreibung | Beschreibung: Offizielle Ausschreibung mit Bieterfrist. | Link: https://ausschreibungsradar.com/ausschreibung/23490208/
URL:https://ausschreibungsradar.com/ausschreibung/23490208/
END:VEVENT
BEGIN:VEVENT
UID:5979fc4d15e82db7@ausschreibungsradar.com
DTSTAMP:20260424T102640Z
DTSTART;VALUE=DATE:20250228
DTEND;VALUE=DATE:20250228
SUMMARY:Ausschreibung — Neubau Kita "Lobstädter Würmchen" - Los 07 - Aluminiumelemen
DESCRIPTION:Phase: Ausschreibung | Beschreibung: Offizielle Ausschreibung mit Bieterfrist. | Link: https://ausschreibungsradar.com/ausschreibung/23490196/
URL:https://ausschreibungsradar.com/ausschreibung/23490196/
END:VEVENT
BEGIN:VEVENT
UID:20da976cbdb92801@ausschreibungsradar.com
DTSTAMP:20260424T102640Z
DTSTART;VALUE=DATE:20250228
DTEND;VALUE=DATE:20250228
SUMMARY:Ausschreibung — Neubau Kita "Lobstädter Würmchen" - Los 07 - Aluminiumelemen
DESCRIPTION:Phase: Ausschreibung | Beschreibung: Offizielle Ausschreibung mit Bieterfrist. | Link: https://ausschreibungsradar.com/ausschreibung/23490200/
URL:https://ausschreibungsradar.com/ausschreibung/23490200/
END:VEVENT
BEGIN:VEVENT
UID:0543077168ca9581@ausschreibungsradar.com
DTSTAMP:20260424T102640Z
DTSTART;VALUE=DATE:20250228
DTEND;VALUE=DATE:20250228
SUMMARY:Ausschreibung — Neubau Kita "Lobstädter Würmchen" - Los 07 - Aluminiumelemen
DESCRIPTION:Phase: Ausschreibung | Beschreibung: Offizielle Ausschreibung mit Bieterfrist. | Link: https://ausschreibungsradar.com/ausschreibung/23490216/
URL:https://ausschreibungsradar.com/ausschreibung/23490216/
END:VEVENT
END:VCALENDAR
