BEGIN:VCALENDAR
VERSION:2.0
PRODID:-//AusschreibungsRadar//Timeline//DE
CALSCALE:GREGORIAN
METHOD:PUBLISH
X-WR-CALNAME:Projekt Sanierung der Straßenbeleuchtung in der Gemeinde Sandhausen
X-WR-TIMEZONE:Europe/Berlin
BEGIN:VEVENT
UID:167ef1f4666f8cc6@ausschreibungsradar.com
DTSTAMP:20260424T124200Z
DTSTART;VALUE=DATE:20250228
DTEND;VALUE=DATE:20250228
SUMMARY:Zuschlag — Sanierung der Straßenbeleuchtung in der Gemeinde Sandhausen
DESCRIPTION:Phase: Zuschlag | Beschreibung: Vergabeergebnis — Auftrag wurde erteilt oder Verfahren beendet. | Link: https://ausschreibungsradar.com/ausschreibung/23491588/
URL:https://ausschreibungsradar.com/ausschreibung/23491588/
END:VEVENT
BEGIN:VEVENT
UID:8993fa6487778043@ausschreibungsradar.com
DTSTAMP:20260424T124200Z
DTSTART;VALUE=DATE:20250228
DTEND;VALUE=DATE:20250228
SUMMARY:Zuschlag — Sanierung der Straßenbeleuchtung in der Gemeinde Sandhausen
DESCRIPTION:Phase: Zuschlag | Beschreibung: Vergabeergebnis — Auftrag wurde erteilt oder Verfahren beendet. | Link: https://ausschreibungsradar.com/ausschreibung/23492412/
URL:https://ausschreibungsradar.com/ausschreibung/23492412/
END:VEVENT
END:VCALENDAR
