BEGIN:VCALENDAR
VERSION:2.0
PRODID:-//AusschreibungsRadar//Timeline//DE
CALSCALE:GREGORIAN
METHOD:PUBLISH
X-WR-CALNAME:Projekt Errichtung Multifunktionsraum Schulcampus Dummerstorf - LOS 
X-WR-TIMEZONE:Europe/Berlin
BEGIN:VEVENT
UID:0300f0265b93bd69@ausschreibungsradar.com
DTSTAMP:20260425T040354Z
DTSTART;VALUE=DATE:20250207
DTEND;VALUE=DATE:20250207
SUMMARY:Ausschreibung — Errichtung Multifunktionsraum Schulcampus Dummerstorf - LOS 
DESCRIPTION:Phase: Ausschreibung | Beschreibung: Offizielle Ausschreibung mit Bieterfrist. | Link: https://ausschreibungsradar.com/ausschreibung/23380854/
URL:https://ausschreibungsradar.com/ausschreibung/23380854/
END:VEVENT
BEGIN:VEVENT
UID:3a52b35b02a752ad@ausschreibungsradar.com
DTSTAMP:20260425T040354Z
DTSTART;VALUE=DATE:20250304
DTEND;VALUE=DATE:20250304
SUMMARY:Änderung — Errichtung Multifunktionsraum Schulcampus Dummerstorf - LOS 
DESCRIPTION:Phase: Änderung | Beschreibung: Nachtrag oder Korrektur zur Bekanntmachung. | Link: https://ausschreibungsradar.com/ausschreibung/23500526/
URL:https://ausschreibungsradar.com/ausschreibung/23500526/
END:VEVENT
END:VCALENDAR
