BEGIN:VCALENDAR
VERSION:2.0
PRODID:-//AusschreibungsRadar//Timeline//DE
CALSCALE:GREGORIAN
METHOD:PUBLISH
X-WR-CALNAME:Projekt Modernisierung Regionale Schule mit Grundschule Tützpatz  / 
X-WR-TIMEZONE:Europe/Berlin
BEGIN:VEVENT
UID:664c02a0ed2949d8@ausschreibungsradar.com
DTSTAMP:20260425T142438Z
DTSTART;VALUE=DATE:20250304
DTEND;VALUE=DATE:20250304
SUMMARY:Ausschreibung — Modernisierung Regionale Schule mit Grundschule Tützpatz  / 
DESCRIPTION:Phase: Ausschreibung | Beschreibung: Offizielle Ausschreibung mit Bieterfrist. | Link: https://ausschreibungsradar.com/ausschreibung/23500550/
URL:https://ausschreibungsradar.com/ausschreibung/23500550/
END:VEVENT
BEGIN:VEVENT
UID:97a8c6c64905b75c@ausschreibungsradar.com
DTSTAMP:20260425T142438Z
DTSTART;VALUE=DATE:20250314
DTEND;VALUE=DATE:20250314
SUMMARY:Ausschreibung — Modernisierung Regionale Schule mit Grundschule Tützpatz  / 
DESCRIPTION:Phase: Ausschreibung | Beschreibung: Offizielle Ausschreibung mit Bieterfrist. | Link: https://ausschreibungsradar.com/ausschreibung/23554936/
URL:https://ausschreibungsradar.com/ausschreibung/23554936/
END:VEVENT
END:VCALENDAR
