BEGIN:VCALENDAR
VERSION:2.0
PRODID:-//AusschreibungsRadar//Timeline//DE
CALSCALE:GREGORIAN
METHOD:PUBLISH
X-WR-CALNAME:Projekt Neubau Kindertagesstätte Stadt Rodewisch
X-WR-TIMEZONE:Europe/Berlin
BEGIN:VEVENT
UID:bede1541e8e875d1@ausschreibungsradar.com
DTSTAMP:20260424T034959Z
DTSTART;VALUE=DATE:20250304
DTEND;VALUE=DATE:20250304
SUMMARY:Ausschreibung — Neubau Kindertagesstätte Stadt Rodewisch
DESCRIPTION:Phase: Ausschreibung | Beschreibung: Offizielle Ausschreibung mit Bieterfrist. | Link: https://ausschreibungsradar.com/ausschreibung/23502386/
URL:https://ausschreibungsradar.com/ausschreibung/23502386/
END:VEVENT
BEGIN:VEVENT
UID:d18d627ae9bf1a06@ausschreibungsradar.com
DTSTAMP:20260424T034959Z
DTSTART;VALUE=DATE:20250402
DTEND;VALUE=DATE:20250402
SUMMARY:Ausschreibung — Neubau Kindertagesstätte Stadt Rodewisch
DESCRIPTION:Phase: Ausschreibung | Beschreibung: Offizielle Ausschreibung mit Bieterfrist. | Link: https://ausschreibungsradar.com/ausschreibung/23650422/
URL:https://ausschreibungsradar.com/ausschreibung/23650422/
END:VEVENT
END:VCALENDAR
