BEGIN:VCALENDAR
VERSION:2.0
PRODID:-//AusschreibungsRadar//Timeline//DE
CALSCALE:GREGORIAN
METHOD:PUBLISH
X-WR-CALNAME:Projekt Erbgericht Lauterbach-Sicherung der Saalnutzung; Los 07-Male
X-WR-TIMEZONE:Europe/Berlin
BEGIN:VEVENT
UID:98a35be547414fab@ausschreibungsradar.com
DTSTAMP:20260424T142821Z
DTSTART;VALUE=DATE:20250307
DTEND;VALUE=DATE:20250307
SUMMARY:Zuschlag — Erbgericht Lauterbach-Sicherung der Saalnutzung\; Los 07-Male
DESCRIPTION:Phase: Zuschlag | Beschreibung: Vergabeergebnis — Auftrag wurde erteilt oder Verfahren beendet. | Link: https://ausschreibungsradar.com/ausschreibung/23520238/
URL:https://ausschreibungsradar.com/ausschreibung/23520238/
END:VEVENT
BEGIN:VEVENT
UID:b35dbf59780a7070@ausschreibungsradar.com
DTSTAMP:20260424T142821Z
DTSTART;VALUE=DATE:20250307
DTEND;VALUE=DATE:20250307
SUMMARY:Zuschlag — Erbgericht Lauterbach-Sicherung der Saalnutzung\; Los 07-Male
DESCRIPTION:Phase: Zuschlag | Beschreibung: Vergabeergebnis — Auftrag wurde erteilt oder Verfahren beendet. | Link: https://ausschreibungsradar.com/ausschreibung/23520222/
URL:https://ausschreibungsradar.com/ausschreibung/23520222/
END:VEVENT
BEGIN:VEVENT
UID:371d616de3e3ac2c@ausschreibungsradar.com
DTSTAMP:20260424T142821Z
DTSTART;VALUE=DATE:20250307
DTEND;VALUE=DATE:20250307
SUMMARY:Zuschlag — Erbgericht Lauterbach-Sicherung der Saalnutzung\; Los 07-Male
DESCRIPTION:Phase: Zuschlag | Beschreibung: Vergabeergebnis — Auftrag wurde erteilt oder Verfahren beendet. | Link: https://ausschreibungsradar.com/ausschreibung/23520218/
URL:https://ausschreibungsradar.com/ausschreibung/23520218/
END:VEVENT
BEGIN:VEVENT
UID:269943e56b6502a7@ausschreibungsradar.com
DTSTAMP:20260424T142821Z
DTSTART;VALUE=DATE:20250307
DTEND;VALUE=DATE:20250307
SUMMARY:Zuschlag — Erbgericht Lauterbach-Sicherung der Saalnutzung\; Los 07-Male
DESCRIPTION:Phase: Zuschlag | Beschreibung: Vergabeergebnis — Auftrag wurde erteilt oder Verfahren beendet. | Link: https://ausschreibungsradar.com/ausschreibung/23520214/
URL:https://ausschreibungsradar.com/ausschreibung/23520214/
END:VEVENT
BEGIN:VEVENT
UID:7d3f6e311418ba3f@ausschreibungsradar.com
DTSTAMP:20260424T142821Z
DTSTART;VALUE=DATE:20250307
DTEND;VALUE=DATE:20250307
SUMMARY:Zuschlag — Erbgericht Lauterbach-Sicherung der Saalnutzung\; Los 07-Male
DESCRIPTION:Phase: Zuschlag | Beschreibung: Vergabeergebnis — Auftrag wurde erteilt oder Verfahren beendet. | Link: https://ausschreibungsradar.com/ausschreibung/23520210/
URL:https://ausschreibungsradar.com/ausschreibung/23520210/
END:VEVENT
BEGIN:VEVENT
UID:28fc85c863bd4c73@ausschreibungsradar.com
DTSTAMP:20260424T142821Z
DTSTART;VALUE=DATE:20250307
DTEND;VALUE=DATE:20250307
SUMMARY:Zuschlag — Erbgericht Lauterbach-Sicherung der Saalnutzung\; Los 07-Male
DESCRIPTION:Phase: Zuschlag | Beschreibung: Vergabeergebnis — Auftrag wurde erteilt oder Verfahren beendet. | Link: https://ausschreibungsradar.com/ausschreibung/23520226/
URL:https://ausschreibungsradar.com/ausschreibung/23520226/
END:VEVENT
END:VCALENDAR
