BEGIN:VCALENDAR
VERSION:2.0
PRODID:-//AusschreibungsRadar//Timeline//DE
CALSCALE:GREGORIAN
METHOD:PUBLISH
X-WR-CALNAME:Projekt Trockenbau- und Malerarbeiten Kurmainz-Kaserne
X-WR-TIMEZONE:Europe/Berlin
BEGIN:VEVENT
UID:0da06a99e1d4d315@ausschreibungsradar.com
DTSTAMP:20260424T114705Z
DTSTART;VALUE=DATE:20250313
DTEND;VALUE=DATE:20250313
SUMMARY:Zuschlag — Trockenbau- und Malerarbeiten Kurmainz-Kaserne
DESCRIPTION:Phase: Zuschlag | Beschreibung: Vergabeergebnis — Auftrag wurde erteilt oder Verfahren beendet. | Link: https://ausschreibungsradar.com/ausschreibung/23549288/
URL:https://ausschreibungsradar.com/ausschreibung/23549288/
END:VEVENT
BEGIN:VEVENT
UID:274796430f0ee4cb@ausschreibungsradar.com
DTSTAMP:20260424T114705Z
DTSTART;VALUE=DATE:20250313
DTEND;VALUE=DATE:20250313
SUMMARY:Zuschlag — Trockenbau- und Malerarbeiten Kurmainz-Kaserne
DESCRIPTION:Phase: Zuschlag | Beschreibung: Vergabeergebnis — Auftrag wurde erteilt oder Verfahren beendet. | Link: https://ausschreibungsradar.com/ausschreibung/23549696/
URL:https://ausschreibungsradar.com/ausschreibung/23549696/
END:VEVENT
BEGIN:VEVENT
UID:9c37c3423a1f859b@ausschreibungsradar.com
DTSTAMP:20260424T114705Z
DTSTART;VALUE=DATE:20250313
DTEND;VALUE=DATE:20250313
SUMMARY:Zuschlag — Trockenbau- und Malerarbeiten Kurmainz-Kaserne
DESCRIPTION:Phase: Zuschlag | Beschreibung: Vergabeergebnis — Auftrag wurde erteilt oder Verfahren beendet. | Link: https://ausschreibungsradar.com/ausschreibung/23549686/
URL:https://ausschreibungsradar.com/ausschreibung/23549686/
END:VEVENT
END:VCALENDAR
