BEGIN:VCALENDAR
VERSION:2.0
PRODID:-//AusschreibungsRadar//Timeline//DE
CALSCALE:GREGORIAN
METHOD:PUBLISH
X-WR-CALNAME:Projekt Errichtung einer Photovoltaikanlage - Grundschule Kleinkarlb
X-WR-TIMEZONE:Europe/Berlin
BEGIN:VEVENT
UID:9faf453cda18c432@ausschreibungsradar.com
DTSTAMP:20260423T232938Z
DTSTART;VALUE=DATE:20250318
DTEND;VALUE=DATE:20250318
SUMMARY:Ausschreibung — Errichtung einer Photovoltaikanlage - Grundschule Kleinkarlb
DESCRIPTION:Phase: Ausschreibung | Beschreibung: Offizielle Ausschreibung mit Bieterfrist. | Link: https://ausschreibungsradar.com/ausschreibung/23576168/
URL:https://ausschreibungsradar.com/ausschreibung/23576168/
END:VEVENT
BEGIN:VEVENT
UID:f2dc27a5c2bbc4ca@ausschreibungsradar.com
DTSTAMP:20260423T232938Z
DTSTART;VALUE=DATE:20250318
DTEND;VALUE=DATE:20250318
SUMMARY:Ausschreibung — Errichtung einer Photovoltaikanlage - Grundschule Kleinkarlb
DESCRIPTION:Phase: Ausschreibung | Beschreibung: Offizielle Ausschreibung mit Bieterfrist. | Link: https://ausschreibungsradar.com/ausschreibung/23576160/
URL:https://ausschreibungsradar.com/ausschreibung/23576160/
END:VEVENT
END:VCALENDAR
