BEGIN:VCALENDAR
VERSION:2.0
PRODID:-//AusschreibungsRadar//Timeline//DE
CALSCALE:GREGORIAN
METHOD:PUBLISH
X-WR-CALNAME:Projekt Lkr. Regensburg, Bernhardswald; Nutzungsänderung Gebäude Rat
X-WR-TIMEZONE:Europe/Berlin
BEGIN:VEVENT
UID:6912d287d3af0690@ausschreibungsradar.com
DTSTAMP:20260425T131136Z
DTSTART;VALUE=DATE:20250324
DTEND;VALUE=DATE:20250324
SUMMARY:Zuschlag — Lkr. Regensburg\, Bernhardswald\; Nutzungsänderung Gebäude Rat
DESCRIPTION:Phase: Zuschlag | Beschreibung: Vergabeergebnis — Auftrag wurde erteilt oder Verfahren beendet. | Link: https://ausschreibungsradar.com/ausschreibung/23606726/
URL:https://ausschreibungsradar.com/ausschreibung/23606726/
END:VEVENT
BEGIN:VEVENT
UID:1951bc26b6a35af0@ausschreibungsradar.com
DTSTAMP:20260425T131136Z
DTSTART;VALUE=DATE:20250414
DTEND;VALUE=DATE:20250414
SUMMARY:Zuschlag — Lkr. Regensburg\, Bernhardswald\; Nutzungsänderung Gebäude Rat
DESCRIPTION:Phase: Zuschlag | Beschreibung: Vergabeergebnis — Auftrag wurde erteilt oder Verfahren beendet. | Link: https://ausschreibungsradar.com/ausschreibung/23715274/
URL:https://ausschreibungsradar.com/ausschreibung/23715274/
END:VEVENT
END:VCALENDAR
