BEGIN:VCALENDAR
VERSION:2.0
PRODID:-//AusschreibungsRadar//Timeline//DE
CALSCALE:GREGORIAN
METHOD:PUBLISH
X-WR-CALNAME:Projekt Abriss ehemalige Kita Seelübbe und Neubau einer Giebelwand -
X-WR-TIMEZONE:Europe/Berlin
BEGIN:VEVENT
UID:cb6a991dbf718b24@ausschreibungsradar.com
DTSTAMP:20260426T015112Z
DTSTART;VALUE=DATE:20250402
DTEND;VALUE=DATE:20250402
SUMMARY:Ausschreibung — Abriss ehemalige Kita Seelübbe und Neubau einer Giebelwand -
DESCRIPTION:Phase: Ausschreibung | Beschreibung: Offizielle Ausschreibung mit Bieterfrist. | Link: https://ausschreibungsradar.com/ausschreibung/23651336/
URL:https://ausschreibungsradar.com/ausschreibung/23651336/
END:VEVENT
BEGIN:VEVENT
UID:bd9ead6662f86359@ausschreibungsradar.com
DTSTAMP:20260426T015112Z
DTSTART;VALUE=DATE:20250402
DTEND;VALUE=DATE:20250402
SUMMARY:Ausschreibung — Abriss ehemalige Kita Seelübbe und Neubau einer Giebelwand -
DESCRIPTION:Phase: Ausschreibung | Beschreibung: Offizielle Ausschreibung mit Bieterfrist. | Link: https://ausschreibungsradar.com/ausschreibung/23651332/
URL:https://ausschreibungsradar.com/ausschreibung/23651332/
END:VEVENT
END:VCALENDAR
