BEGIN:VCALENDAR
VERSION:2.0
PRODID:-//AusschreibungsRadar//Timeline//DE
CALSCALE:GREGORIAN
METHOD:PUBLISH
X-WR-CALNAME:Projekt Fliesen- und Plattenarbeiten Die Gemeinde Lachen beabsichtig
X-WR-TIMEZONE:Europe/Berlin
BEGIN:VEVENT
UID:4375fcdb678db668@ausschreibungsradar.com
DTSTAMP:20260425T005016Z
DTSTART;VALUE=DATE:20250417
DTEND;VALUE=DATE:20250417
SUMMARY:Zuschlag — Fliesen- und Plattenarbeiten Die Gemeinde Lachen beabsichtig
DESCRIPTION:Phase: Zuschlag | Beschreibung: Vergabeergebnis — Auftrag wurde erteilt oder Verfahren beendet. | Link: https://ausschreibungsradar.com/ausschreibung/23741016/
URL:https://ausschreibungsradar.com/ausschreibung/23741016/
END:VEVENT
BEGIN:VEVENT
UID:3450c435a972147b@ausschreibungsradar.com
DTSTAMP:20260425T005016Z
DTSTART;VALUE=DATE:20250417
DTEND;VALUE=DATE:20250417
SUMMARY:Zuschlag — Fliesen- und Plattenarbeiten Die Gemeinde Lachen beabsichtig
DESCRIPTION:Phase: Zuschlag | Beschreibung: Vergabeergebnis — Auftrag wurde erteilt oder Verfahren beendet. | Link: https://ausschreibungsradar.com/ausschreibung/23741024/
URL:https://ausschreibungsradar.com/ausschreibung/23741024/
END:VEVENT
BEGIN:VEVENT
UID:3014cd0b1ac82894@ausschreibungsradar.com
DTSTAMP:20260425T005016Z
DTSTART;VALUE=DATE:20250429
DTEND;VALUE=DATE:20250429
SUMMARY:Ausschreibung — Fliesen- und Plattenarbeiten Die Gemeinde Lachen beabsichtig
DESCRIPTION:Phase: Ausschreibung | Beschreibung: Offizielle Ausschreibung mit Bieterfrist. | Link: https://ausschreibungsradar.com/ausschreibung/23780390/
URL:https://ausschreibungsradar.com/ausschreibung/23780390/
END:VEVENT
END:VCALENDAR
