BEGIN:VCALENDAR
VERSION:2.0
PRODID:-//AusschreibungsRadar//Timeline//DE
CALSCALE:GREGORIAN
METHOD:PUBLISH
X-WR-CALNAME:Projekt Ganztagsschule Behövede
X-WR-TIMEZONE:Europe/Berlin
BEGIN:VEVENT
UID:8b345c1723a2c3a5@ausschreibungsradar.com
DTSTAMP:20260425T225131Z
DTSTART;VALUE=DATE:20250425
DTEND;VALUE=DATE:20250425
SUMMARY:Ausschreibung — Ganztagsschule Behövede
DESCRIPTION:Phase: Ausschreibung | Beschreibung: Offizielle Ausschreibung mit Bieterfrist. | Link: https://ausschreibungsradar.com/ausschreibung/23760336/
URL:https://ausschreibungsradar.com/ausschreibung/23760336/
END:VEVENT
BEGIN:VEVENT
UID:459077e67fab3bfe@ausschreibungsradar.com
DTSTAMP:20260425T225131Z
DTSTART;VALUE=DATE:20250425
DTEND;VALUE=DATE:20250425
SUMMARY:Ausschreibung — Ganztagsschule Behövede
DESCRIPTION:Phase: Ausschreibung | Beschreibung: Offizielle Ausschreibung mit Bieterfrist. | Link: https://ausschreibungsradar.com/ausschreibung/23760348/
URL:https://ausschreibungsradar.com/ausschreibung/23760348/
END:VEVENT
END:VCALENDAR
