BEGIN:VCALENDAR
VERSION:2.0
PRODID:-//AusschreibungsRadar//Timeline//DE
CALSCALE:GREGORIAN
METHOD:PUBLISH
X-WR-CALNAME:Projekt Trockenbauarbeiten - Neubau eines Sozialgebäudes und einer W
X-WR-TIMEZONE:Europe/Berlin
BEGIN:VEVENT
UID:0144b48c73aace9d@ausschreibungsradar.com
DTSTAMP:20260425T142301Z
DTSTART;VALUE=DATE:20250424
DTEND;VALUE=DATE:20250424
SUMMARY:Ausschreibung — Trockenbauarbeiten - Neubau eines Sozialgebäudes und einer W
DESCRIPTION:Phase: Ausschreibung | Beschreibung: Offizielle Ausschreibung mit Bieterfrist. | Link: https://ausschreibungsradar.com/ausschreibung/23760880/
URL:https://ausschreibungsradar.com/ausschreibung/23760880/
END:VEVENT
BEGIN:VEVENT
UID:de0df0fe8766bbdd@ausschreibungsradar.com
DTSTAMP:20260425T142301Z
DTSTART;VALUE=DATE:20250424
DTEND;VALUE=DATE:20250424
SUMMARY:Ausschreibung — Trockenbauarbeiten - Neubau eines Sozialgebäudes und einer W
DESCRIPTION:Phase: Ausschreibung | Beschreibung: Offizielle Ausschreibung mit Bieterfrist. | Link: https://ausschreibungsradar.com/ausschreibung/23760836/
URL:https://ausschreibungsradar.com/ausschreibung/23760836/
END:VEVENT
END:VCALENDAR
