BEGIN:VCALENDAR
VERSION:2.0
PRODID:-//AusschreibungsRadar//Timeline//DE
CALSCALE:GREGORIAN
METHOD:PUBLISH
X-WR-CALNAME:Projekt Brandschutz Kita Kinderhaus_BA 4.2_Los 01 BHL
X-WR-TIMEZONE:Europe/Berlin
BEGIN:VEVENT
UID:871f148b5e9c12bc@ausschreibungsradar.com
DTSTAMP:20260425T131117Z
DTSTART;VALUE=DATE:20250514
DTEND;VALUE=DATE:20250514
SUMMARY:Ausschreibung — Brandschutz Kita Kinderhaus_BA 4.2_Los 01 BHL
DESCRIPTION:Phase: Ausschreibung | Beschreibung: Offizielle Ausschreibung mit Bieterfrist. | Link: https://ausschreibungsradar.com/ausschreibung/23840222/
URL:https://ausschreibungsradar.com/ausschreibung/23840222/
END:VEVENT
BEGIN:VEVENT
UID:bc386b3249f61c51@ausschreibungsradar.com
DTSTAMP:20260425T131117Z
DTSTART;VALUE=DATE:20250514
DTEND;VALUE=DATE:20250514
SUMMARY:Ausschreibung — Brandschutz Kita Kinderhaus_BA 4.2_Los 01 BHL
DESCRIPTION:Phase: Ausschreibung | Beschreibung: Offizielle Ausschreibung mit Bieterfrist. | Link: https://ausschreibungsradar.com/ausschreibung/23840226/
URL:https://ausschreibungsradar.com/ausschreibung/23840226/
END:VEVENT
END:VCALENDAR
