BEGIN:VCALENDAR
VERSION:2.0
PRODID:-//AusschreibungsRadar//Timeline//DE
CALSCALE:GREGORIAN
METHOD:PUBLISH
X-WR-CALNAME:Projekt Planungsleistungen für die Grundsanierung Stadtklubhaus
X-WR-TIMEZONE:Europe/Berlin
BEGIN:VEVENT
UID:d4d8ca0d13d11977@ausschreibungsradar.com
DTSTAMP:20260425T225031Z
DTSTART;VALUE=DATE:20250514
DTEND;VALUE=DATE:20250514
SUMMARY:Ausschreibung — Planungsleistungen für die Grundsanierung Stadtklubhaus
DESCRIPTION:Phase: Ausschreibung | Beschreibung: Offizielle Ausschreibung mit Bieterfrist. | Link: https://ausschreibungsradar.com/ausschreibung/23840910/
URL:https://ausschreibungsradar.com/ausschreibung/23840910/
END:VEVENT
BEGIN:VEVENT
UID:ba093ca10d63a0f1@ausschreibungsradar.com
DTSTAMP:20260425T225031Z
DTSTART;VALUE=DATE:20250521
DTEND;VALUE=DATE:20250521
SUMMARY:Ausschreibung — Planungsleistungen für die Grundsanierung Stadtklubhaus
DESCRIPTION:Phase: Ausschreibung | Beschreibung: Offizielle Ausschreibung mit Bieterfrist. | Link: https://ausschreibungsradar.com/ausschreibung/b5673f5d-d36d-43c1-885e-f8caa2dfd596/
URL:https://ausschreibungsradar.com/ausschreibung/b5673f5d-d36d-43c1-885e-f8caa2dfd596/
END:VEVENT
END:VCALENDAR
