BEGIN:VCALENDAR
VERSION:2.0
PRODID:-//AusschreibungsRadar//Timeline//DE
CALSCALE:GREGORIAN
METHOD:PUBLISH
X-WR-CALNAME:Projekt Brandschutz Kita Kinderhaus_BA 4.2_Los 05 Dach
X-WR-TIMEZONE:Europe/Berlin
BEGIN:VEVENT
UID:871f148b5e9c12bc@ausschreibungsradar.com
DTSTAMP:20260425T142502Z
DTSTART;VALUE=DATE:20250514
DTEND;VALUE=DATE:20250514
SUMMARY:Ausschreibung — Brandschutz Kita Kinderhaus_BA 4.2_Los 05 Dach
DESCRIPTION:Phase: Ausschreibung | Beschreibung: Offizielle Ausschreibung mit Bieterfrist. | Link: https://ausschreibungsradar.com/ausschreibung/23840222/
URL:https://ausschreibungsradar.com/ausschreibung/23840222/
END:VEVENT
BEGIN:VEVENT
UID:03ab4eb642209a8b@ausschreibungsradar.com
DTSTAMP:20260425T142502Z
DTSTART;VALUE=DATE:20250515
DTEND;VALUE=DATE:20250515
SUMMARY:Ausschreibung — Brandschutz Kita Kinderhaus_BA 4.2_Los 05 Dach
DESCRIPTION:Phase: Ausschreibung | Beschreibung: Offizielle Ausschreibung mit Bieterfrist. | Link: https://ausschreibungsradar.com/ausschreibung/23846880/
URL:https://ausschreibungsradar.com/ausschreibung/23846880/
END:VEVENT
END:VCALENDAR
