BEGIN:VCALENDAR
VERSION:2.0
PRODID:-//AusschreibungsRadar//Timeline//DE
CALSCALE:GREGORIAN
METHOD:PUBLISH
X-WR-CALNAME:Projekt Erweiterung Krippenhaus St. Raphael - Zimmerarbeiten
X-WR-TIMEZONE:Europe/Berlin
BEGIN:VEVENT
UID:61ecdbdde0629f35@ausschreibungsradar.com
DTSTAMP:20260425T174844Z
DTSTART;VALUE=DATE:20250514
DTEND;VALUE=DATE:20250514
SUMMARY:Ausschreibung — Erweiterung Krippenhaus St. Raphael - Zimmerarbeiten
DESCRIPTION:Phase: Ausschreibung | Beschreibung: Offizielle Ausschreibung mit Bieterfrist. | Link: https://ausschreibungsradar.com/ausschreibung/23840596/
URL:https://ausschreibungsradar.com/ausschreibung/23840596/
END:VEVENT
BEGIN:VEVENT
UID:4958b3dd644274c4@ausschreibungsradar.com
DTSTAMP:20260425T174844Z
DTSTART;VALUE=DATE:20250515
DTEND;VALUE=DATE:20250515
SUMMARY:Ausschreibung — Erweiterung Krippenhaus St. Raphael - Zimmerarbeiten
DESCRIPTION:Phase: Ausschreibung | Beschreibung: Offizielle Ausschreibung mit Bieterfrist. | Link: https://ausschreibungsradar.com/ausschreibung/23847448/
URL:https://ausschreibungsradar.com/ausschreibung/23847448/
END:VEVENT
END:VCALENDAR
