BEGIN:VCALENDAR
VERSION:2.0
PRODID:-//AusschreibungsRadar//Timeline//DE
CALSCALE:GREGORIAN
METHOD:PUBLISH
X-WR-CALNAME:Projekt Oberbergkirchen; Sanierung Abwasserentsorgung Aubenham, Tief
X-WR-TIMEZONE:Europe/Berlin
BEGIN:VEVENT
UID:623eb21f63fea1d0@ausschreibungsradar.com
DTSTAMP:20260424T090014Z
DTSTART;VALUE=DATE:20250516
DTEND;VALUE=DATE:20250516
SUMMARY:Zuschlag — Oberbergkirchen\; Sanierung Abwasserentsorgung Aubenham\, Tief
DESCRIPTION:Phase: Zuschlag | Beschreibung: Vergabeergebnis — Auftrag wurde erteilt oder Verfahren beendet. | Link: https://ausschreibungsradar.com/ausschreibung/23860160/
URL:https://ausschreibungsradar.com/ausschreibung/23860160/
END:VEVENT
BEGIN:VEVENT
UID:3585aa8a6e9eab52@ausschreibungsradar.com
DTSTAMP:20260424T090014Z
DTSTART;VALUE=DATE:20250526
DTEND;VALUE=DATE:20250526
SUMMARY:Zuschlag — Oberbergkirchen\; Sanierung Abwasserentsorgung Aubenham\, Tief
DESCRIPTION:Phase: Zuschlag | Beschreibung: Vergabeergebnis — Auftrag wurde erteilt oder Verfahren beendet. | Link: https://ausschreibungsradar.com/ausschreibung/23903952/
URL:https://ausschreibungsradar.com/ausschreibung/23903952/
END:VEVENT
END:VCALENDAR
