BEGIN:VCALENDAR
VERSION:2.0
PRODID:-//AusschreibungsRadar//Timeline//DE
CALSCALE:GREGORIAN
METHOD:PUBLISH
X-WR-CALNAME:Projekt Erweiterung Krippenhaus St. Raphael - Sonnenschutz
X-WR-TIMEZONE:Europe/Berlin
BEGIN:VEVENT
UID:83f8df4a3aeae29c@ausschreibungsradar.com
DTSTAMP:20260426T002027Z
DTSTART;VALUE=DATE:20250515
DTEND;VALUE=DATE:20250515
SUMMARY:Ausschreibung — Erweiterung Krippenhaus St. Raphael - Sonnenschutz
DESCRIPTION:Phase: Ausschreibung | Beschreibung: Offizielle Ausschreibung mit Bieterfrist. | Link: https://ausschreibungsradar.com/ausschreibung/23847452/
URL:https://ausschreibungsradar.com/ausschreibung/23847452/
END:VEVENT
BEGIN:VEVENT
UID:34ab507805f177a9@ausschreibungsradar.com
DTSTAMP:20260426T002027Z
DTSTART;VALUE=DATE:20250520
DTEND;VALUE=DATE:20250520
SUMMARY:Ausschreibung — Erweiterung Krippenhaus St. Raphael - Sonnenschutz
DESCRIPTION:Phase: Ausschreibung | Beschreibung: Offizielle Ausschreibung mit Bieterfrist. | Link: https://ausschreibungsradar.com/ausschreibung/23869520/
URL:https://ausschreibungsradar.com/ausschreibung/23869520/
END:VEVENT
END:VCALENDAR
