BEGIN:VCALENDAR
VERSION:2.0
PRODID:-//AusschreibungsRadar//Timeline//DE
CALSCALE:GREGORIAN
METHOD:PUBLISH
X-WR-CALNAME:Projekt Durchlauf zu Lenne, Umverlegung Mischwasserkanal Südstraße
X-WR-TIMEZONE:Europe/Berlin
BEGIN:VEVENT
UID:12a62322104f9529@ausschreibungsradar.com
DTSTAMP:20260425T234840Z
DTSTART;VALUE=DATE:20250320
DTEND;VALUE=DATE:20250320
SUMMARY:Angebotsfrist — Durchlauf zu Lenne\, Umverlegung Mischwasserkanal Südstraße
DESCRIPTION:Phase: Ausschreibung | Beschreibung: Angebote werden eingeholt | Link: https://ausschreibungsradar.com/ausschreibung/473388eb-25f0-429b-a124-266ee4321dbe/
URL:https://ausschreibungsradar.com/ausschreibung/473388eb-25f0-429b-a124-266ee4321dbe/
END:VEVENT
BEGIN:VEVENT
UID:978ed82d433fc3c9@ausschreibungsradar.com
DTSTAMP:20260425T234840Z
DTSTART;VALUE=DATE:20250516
DTEND;VALUE=DATE:20250516
SUMMARY:Vergabeergebnis — Durchlauf zu Lenne\, Umverlegung Mischwasserkanal Südstraße
DESCRIPTION:Phase: Vergabeergebnis | Beschreibung: Auftrag wurde zugeschlagen | Link: https://ausschreibungsradar.com/ausschreibung/238e1d90-d2e1-4cb1-9341-618d24ede629/ | Auftragnehmer: INFRAFACT GmbH\, Büro Hat
URL:https://ausschreibungsradar.com/ausschreibung/238e1d90-d2e1-4cb1-9341-618d24ede629/
END:VEVENT
END:VCALENDAR
