BEGIN:VCALENDAR
VERSION:2.0
PRODID:-//AusschreibungsRadar//Timeline//DE
CALSCALE:GREGORIAN
METHOD:PUBLISH
X-WR-CALNAME:Projekt Gewässerwiederaufbau 7. Bauabschnitt
X-WR-TIMEZONE:Europe/Berlin
BEGIN:VEVENT
UID:a96d6d1995e65bb3@ausschreibungsradar.com
DTSTAMP:20260425T004818Z
DTSTART;VALUE=DATE:20250526
DTEND;VALUE=DATE:20250526
SUMMARY:Ausschreibung — Gewässerwiederaufbau 7. Bauabschnitt
DESCRIPTION:Phase: Ausschreibung | Beschreibung: Offizielle Ausschreibung mit Bieterfrist. | Link: https://ausschreibungsradar.com/ausschreibung/23901764/
URL:https://ausschreibungsradar.com/ausschreibung/23901764/
END:VEVENT
BEGIN:VEVENT
UID:b45304a828a928eb@ausschreibungsradar.com
DTSTAMP:20260425T004818Z
DTSTART;VALUE=DATE:20250610
DTEND;VALUE=DATE:20250610
SUMMARY:Ausschreibung — Gewässerwiederaufbau 7. Bauabschnitt
DESCRIPTION:Phase: Ausschreibung | Beschreibung: Offizielle Ausschreibung mit Bieterfrist. | Link: https://ausschreibungsradar.com/ausschreibung/23964096/
URL:https://ausschreibungsradar.com/ausschreibung/23964096/
END:VEVENT
END:VCALENDAR
