BEGIN:VCALENDAR
VERSION:2.0
PRODID:-//AusschreibungsRadar//Timeline//DE
CALSCALE:GREGORIAN
METHOD:PUBLISH
X-WR-CALNAME:Projekt Neubau Rathaus Verbandsgemeinde Wissen
X-WR-TIMEZONE:Europe/Berlin
BEGIN:VEVENT
UID:330e2651886973a4@ausschreibungsradar.com
DTSTAMP:20260425T144051Z
DTSTART;VALUE=DATE:20250302
DTEND;VALUE=DATE:20250302
SUMMARY:Ausschreibung — Neubau Rathaus Verbandsgemeinde Wissen
DESCRIPTION:Phase: Ausschreibung | Beschreibung: Offizielle Ausschreibung mit Bieterfrist. | Link: https://ausschreibungsradar.com/ausschreibung/e96b8876-24cc-4ab0-a814-83eef1f2a666/
URL:https://ausschreibungsradar.com/ausschreibung/e96b8876-24cc-4ab0-a814-83eef1f2a666/
END:VEVENT
BEGIN:VEVENT
UID:cfb45359860da544@ausschreibungsradar.com
DTSTAMP:20260425T144051Z
DTSTART;VALUE=DATE:20250609
DTEND;VALUE=DATE:20250609
SUMMARY:Angebotsfrist — Neubau Rathaus Verbandsgemeinde Wissen
DESCRIPTION:Phase: Ausschreibung | Beschreibung: Angebote werden eingeholt | Link: https://ausschreibungsradar.com/ausschreibung/240095de-c41e-4694-959b-6ca09f41cb22/
URL:https://ausschreibungsradar.com/ausschreibung/240095de-c41e-4694-959b-6ca09f41cb22/
END:VEVENT
BEGIN:VEVENT
UID:4f952ff397c35bc0@ausschreibungsradar.com
DTSTAMP:20260425T144051Z
DTSTART;VALUE=DATE:20250501
DTEND;VALUE=DATE:20250501
SUMMARY:Ausschreibung — Neubau Rathaus Verbandsgemeinde Wissen
DESCRIPTION:Phase: Ausschreibung | Beschreibung: Offizielle Ausschreibung mit Bieterfrist. | Link: https://ausschreibungsradar.com/ausschreibung/a38e4b54-0162-46da-882f-e46401261499/
URL:https://ausschreibungsradar.com/ausschreibung/a38e4b54-0162-46da-882f-e46401261499/
END:VEVENT
BEGIN:VEVENT
UID:9617f16529057e64@ausschreibungsradar.com
DTSTAMP:20260425T144051Z
DTSTART;VALUE=DATE:20250501
DTEND;VALUE=DATE:20250501
SUMMARY:Ausschreibung — Neubau Rathaus Verbandsgemeinde Wissen
DESCRIPTION:Phase: Ausschreibung | Beschreibung: Offizielle Ausschreibung mit Bieterfrist. | Link: https://ausschreibungsradar.com/ausschreibung/db17e1a4-656a-4f69-b25f-f7ebe008a9dc/
URL:https://ausschreibungsradar.com/ausschreibung/db17e1a4-656a-4f69-b25f-f7ebe008a9dc/
END:VEVENT
END:VCALENDAR
