BEGIN:VCALENDAR
VERSION:2.0
PRODID:-//AusschreibungsRadar//Timeline//DE
CALSCALE:GREGORIAN
METHOD:PUBLISH
X-WR-CALNAME:Projekt Mobiles Messlabor
X-WR-TIMEZONE:Europe/Berlin
BEGIN:VEVENT
UID:99bf3ba483ce1343@ausschreibungsradar.com
DTSTAMP:20260425T225024Z
DTSTART;VALUE=DATE:20250620
DTEND;VALUE=DATE:20250620
SUMMARY:Ausschreibung — Mobiles Messlabor
DESCRIPTION:Phase: Ausschreibung | Beschreibung: Offizielle Ausschreibung mit Bieterfrist. | Link: https://ausschreibungsradar.com/ausschreibung/24010836/
URL:https://ausschreibungsradar.com/ausschreibung/24010836/
END:VEVENT
BEGIN:VEVENT
UID:f5cc69ba6d793b21@ausschreibungsradar.com
DTSTAMP:20260425T225024Z
DTSTART;VALUE=DATE:20250714
DTEND;VALUE=DATE:20250714
SUMMARY:Ausschreibung — Mobiles Messlabor
DESCRIPTION:Phase: Ausschreibung | Beschreibung: Offizielle Ausschreibung mit Bieterfrist. | Link: https://ausschreibungsradar.com/ausschreibung/24118404/
URL:https://ausschreibungsradar.com/ausschreibung/24118404/
END:VEVENT
END:VCALENDAR
