BEGIN:VCALENDAR
VERSION:2.0
PRODID:-//AusschreibungsRadar//Timeline//DE
CALSCALE:GREGORIAN
METHOD:PUBLISH
X-WR-CALNAME:Projekt Rahmenvereinbarung für die Lieferung von Laborverbrauchsmate
X-WR-TIMEZONE:Europe/Berlin
BEGIN:VEVENT
UID:9912f0e5509d6330@ausschreibungsradar.com
DTSTAMP:20260425T225042Z
DTSTART;VALUE=DATE:20250624
DTEND;VALUE=DATE:20250624
SUMMARY:Ausschreibung — Rahmenvereinbarung für die Lieferung von Laborverbrauchsmate
DESCRIPTION:Phase: Ausschreibung | Beschreibung: Offizielle Ausschreibung mit Bieterfrist. | Link: https://ausschreibungsradar.com/ausschreibung/24021696/
URL:https://ausschreibungsradar.com/ausschreibung/24021696/
END:VEVENT
BEGIN:VEVENT
UID:cf66a4eb61b5fade@ausschreibungsradar.com
DTSTAMP:20260425T225042Z
DTSTART;VALUE=DATE:20250625
DTEND;VALUE=DATE:20250625
SUMMARY:Ausschreibung — Rahmenvereinbarung für die Lieferung von Laborverbrauchsmate
DESCRIPTION:Phase: Ausschreibung | Beschreibung: Offizielle Ausschreibung mit Bieterfrist. | Link: https://ausschreibungsradar.com/ausschreibung/24027404/
URL:https://ausschreibungsradar.com/ausschreibung/24027404/
END:VEVENT
END:VCALENDAR
