BEGIN:VCALENDAR
VERSION:2.0
PRODID:-//AusschreibungsRadar//Timeline//DE
CALSCALE:GREGORIAN
METHOD:PUBLISH
X-WR-CALNAME:Projekt Ersatzneubau Kita "Sonnenschein" in 19406 Sternberg, Finkenk
X-WR-TIMEZONE:Europe/Berlin
BEGIN:VEVENT
UID:7ad837398130b6a6@ausschreibungsradar.com
DTSTAMP:20260426T002103Z
DTSTART;VALUE=DATE:20250604
DTEND;VALUE=DATE:20250604
SUMMARY:Ausschreibung — Ersatzneubau Kita "Sonnenschein" in 19406 Sternberg\, Finkenk
DESCRIPTION:Phase: Ausschreibung | Beschreibung: Offizielle Ausschreibung mit Bieterfrist. | Link: https://ausschreibungsradar.com/ausschreibung/23936826/
URL:https://ausschreibungsradar.com/ausschreibung/23936826/
END:VEVENT
BEGIN:VEVENT
UID:e6200eef618fa2f7@ausschreibungsradar.com
DTSTAMP:20260426T002103Z
DTSTART;VALUE=DATE:20250627
DTEND;VALUE=DATE:20250627
SUMMARY:Ausschreibung — Ersatzneubau Kita "Sonnenschein" in 19406 Sternberg\, Finkenk
DESCRIPTION:Phase: Ausschreibung | Beschreibung: Offizielle Ausschreibung mit Bieterfrist. | Link: https://ausschreibungsradar.com/ausschreibung/24038130/
URL:https://ausschreibungsradar.com/ausschreibung/24038130/
END:VEVENT
END:VCALENDAR
