BEGIN:VCALENDAR
VERSION:2.0
PRODID:-//AusschreibungsRadar//Timeline//DE
CALSCALE:GREGORIAN
METHOD:PUBLISH
X-WR-CALNAME:Projekt Erweiterung Feuerwehrgerätehaus Oelsnitz/Erzgeb. - Los 3: Ge
X-WR-TIMEZONE:Europe/Berlin
BEGIN:VEVENT
UID:6dda3b6e06a753dc@ausschreibungsradar.com
DTSTAMP:20260424T180911Z
DTSTART;VALUE=DATE:20250604
DTEND;VALUE=DATE:20250604
SUMMARY:Ausschreibung — Erweiterung Feuerwehrgerätehaus Oelsnitz/Erzgeb. - Los 3: Ge
DESCRIPTION:Phase: Ausschreibung | Beschreibung: Offizielle Ausschreibung mit Bieterfrist. | Link: https://ausschreibungsradar.com/ausschreibung/23939218/
URL:https://ausschreibungsradar.com/ausschreibung/23939218/
END:VEVENT
BEGIN:VEVENT
UID:330d8896b281dcda@ausschreibungsradar.com
DTSTAMP:20260424T180911Z
DTSTART;VALUE=DATE:20250623
DTEND;VALUE=DATE:20250623
SUMMARY:Ausschreibung — Erweiterung Feuerwehrgerätehaus Oelsnitz/Erzgeb. - Los 3: Ge
DESCRIPTION:Phase: Ausschreibung | Beschreibung: Offizielle Ausschreibung mit Bieterfrist. | Link: https://ausschreibungsradar.com/ausschreibung/24016200/
URL:https://ausschreibungsradar.com/ausschreibung/24016200/
END:VEVENT
BEGIN:VEVENT
UID:127917316aae9c03@ausschreibungsradar.com
DTSTAMP:20260424T180911Z
DTSTART;VALUE=DATE:20250627
DTEND;VALUE=DATE:20250627
SUMMARY:Zuschlag — Erweiterung Feuerwehrgerätehaus Oelsnitz/Erzgeb. - Los 3: Ge
DESCRIPTION:Phase: Zuschlag | Beschreibung: Vergabeergebnis — Auftrag wurde erteilt oder Verfahren beendet. | Link: https://ausschreibungsradar.com/ausschreibung/24040830/
URL:https://ausschreibungsradar.com/ausschreibung/24040830/
END:VEVENT
END:VCALENDAR
