BEGIN:VCALENDAR
VERSION:2.0
PRODID:-//AusschreibungsRadar//Timeline//DE
CALSCALE:GREGORIAN
METHOD:PUBLISH
X-WR-CALNAME:Projekt L25 / Güstower Straße in Prenzlau - Los 2: Beleuchtung
X-WR-TIMEZONE:Europe/Berlin
BEGIN:VEVENT
UID:7f4a24eccdbaca59@ausschreibungsradar.com
DTSTAMP:20260425T134740Z
DTSTART;VALUE=DATE:20250627
DTEND;VALUE=DATE:20250627
SUMMARY:Ausschreibung — L25 / Güstower Straße in Prenzlau - Los 2: Beleuchtung
DESCRIPTION:Phase: Ausschreibung | Beschreibung: Offizielle Ausschreibung mit Bieterfrist. | Link: https://ausschreibungsradar.com/ausschreibung/24041662/
URL:https://ausschreibungsradar.com/ausschreibung/24041662/
END:VEVENT
BEGIN:VEVENT
UID:92bdb39a3a2ef9f4@ausschreibungsradar.com
DTSTAMP:20260425T134740Z
DTSTART;VALUE=DATE:20250627
DTEND;VALUE=DATE:20250627
SUMMARY:Ausschreibung — L25 / Güstower Straße in Prenzlau - Los 2: Beleuchtung
DESCRIPTION:Phase: Ausschreibung | Beschreibung: Offizielle Ausschreibung mit Bieterfrist. | Link: https://ausschreibungsradar.com/ausschreibung/24041666/
URL:https://ausschreibungsradar.com/ausschreibung/24041666/
END:VEVENT
END:VCALENDAR
