BEGIN:VCALENDAR
VERSION:2.0
PRODID:-//AusschreibungsRadar//Timeline//DE
CALSCALE:GREGORIAN
METHOD:PUBLISH
X-WR-CALNAME:Projekt Neubau einer Kinderkrippe in Patersdorf; Gewerk Elektroinsta
X-WR-TIMEZONE:Europe/Berlin
BEGIN:VEVENT
UID:c515018a0db6c49a@ausschreibungsradar.com
DTSTAMP:20260425T203601Z
DTSTART;VALUE=DATE:20250630
DTEND;VALUE=DATE:20250630
SUMMARY:Ausschreibung — Neubau einer Kinderkrippe in Patersdorf\; Gewerk Elektroinsta
DESCRIPTION:Phase: Ausschreibung | Beschreibung: Offizielle Ausschreibung mit Bieterfrist. | Link: https://ausschreibungsradar.com/ausschreibung/24053406/
URL:https://ausschreibungsradar.com/ausschreibung/24053406/
END:VEVENT
BEGIN:VEVENT
UID:2b2d5da199af18cc@ausschreibungsradar.com
DTSTAMP:20260425T203601Z
DTSTART;VALUE=DATE:20250630
DTEND;VALUE=DATE:20250630
SUMMARY:Ausschreibung — Neubau einer Kinderkrippe in Patersdorf\; Gewerk Elektroinsta
DESCRIPTION:Phase: Ausschreibung | Beschreibung: Offizielle Ausschreibung mit Bieterfrist. | Link: https://ausschreibungsradar.com/ausschreibung/24053402/
URL:https://ausschreibungsradar.com/ausschreibung/24053402/
END:VEVENT
END:VCALENDAR
