BEGIN:VCALENDAR
VERSION:2.0
PRODID:-//AusschreibungsRadar//Timeline//DE
CALSCALE:GREGORIAN
METHOD:PUBLISH
X-WR-CALNAME:Projekt Gemeinde Barbing - Anbau an das Feuerwehrgerätehaus Sarching
X-WR-TIMEZONE:Europe/Berlin
BEGIN:VEVENT
UID:5ee8b8daf3c6f413@ausschreibungsradar.com
DTSTAMP:20260424T050251Z
DTSTART;VALUE=DATE:20250604
DTEND;VALUE=DATE:20250604
SUMMARY:Zuschlag — Gemeinde Barbing - Anbau an das Feuerwehrgerätehaus Sarching
DESCRIPTION:Phase: Zuschlag | Beschreibung: Vergabeergebnis — Auftrag wurde erteilt oder Verfahren beendet. | Link: https://ausschreibungsradar.com/ausschreibung/23944542/
URL:https://ausschreibungsradar.com/ausschreibung/23944542/
END:VEVENT
BEGIN:VEVENT
UID:f7d98c1f12827fd3@ausschreibungsradar.com
DTSTAMP:20260424T050251Z
DTSTART;VALUE=DATE:20250703
DTEND;VALUE=DATE:20250703
SUMMARY:Zuschlag — Gemeinde Barbing - Anbau an das Feuerwehrgerätehaus Sarching
DESCRIPTION:Phase: Zuschlag | Beschreibung: Vergabeergebnis — Auftrag wurde erteilt oder Verfahren beendet. | Link: https://ausschreibungsradar.com/ausschreibung/24073144/
URL:https://ausschreibungsradar.com/ausschreibung/24073144/
END:VEVENT
BEGIN:VEVENT
UID:3e3ab13b05be1297@ausschreibungsradar.com
DTSTAMP:20260424T050251Z
DTSTART;VALUE=DATE:20250703
DTEND;VALUE=DATE:20250703
SUMMARY:Zuschlag — Gemeinde Barbing - Anbau an das Feuerwehrgerätehaus Sarching
DESCRIPTION:Phase: Zuschlag | Beschreibung: Vergabeergebnis — Auftrag wurde erteilt oder Verfahren beendet. | Link: https://ausschreibungsradar.com/ausschreibung/24073148/
URL:https://ausschreibungsradar.com/ausschreibung/24073148/
END:VEVENT
BEGIN:VEVENT
UID:829c998e889e8a7b@ausschreibungsradar.com
DTSTAMP:20260424T050251Z
DTSTART;VALUE=DATE:20250703
DTEND;VALUE=DATE:20250703
SUMMARY:Zuschlag — Gemeinde Barbing - Anbau an das Feuerwehrgerätehaus Sarching
DESCRIPTION:Phase: Zuschlag | Beschreibung: Vergabeergebnis — Auftrag wurde erteilt oder Verfahren beendet. | Link: https://ausschreibungsradar.com/ausschreibung/24073140/
URL:https://ausschreibungsradar.com/ausschreibung/24073140/
END:VEVENT
BEGIN:VEVENT
UID:c71425ff31fa9414@ausschreibungsradar.com
DTSTAMP:20260424T050251Z
DTSTART;VALUE=DATE:20250729
DTEND;VALUE=DATE:20250729
SUMMARY:Ausschreibung — Gemeinde Barbing - Anbau an das Feuerwehrgerätehaus Sarching
DESCRIPTION:Phase: Ausschreibung | Beschreibung: Offizielle Ausschreibung mit Bieterfrist. | Link: https://ausschreibungsradar.com/ausschreibung/24199750/
URL:https://ausschreibungsradar.com/ausschreibung/24199750/
END:VEVENT
BEGIN:VEVENT
UID:e24a7884c6286156@ausschreibungsradar.com
DTSTAMP:20260424T050251Z
DTSTART;VALUE=DATE:20250729
DTEND;VALUE=DATE:20250729
SUMMARY:Ausschreibung — Gemeinde Barbing - Anbau an das Feuerwehrgerätehaus Sarching
DESCRIPTION:Phase: Ausschreibung | Beschreibung: Offizielle Ausschreibung mit Bieterfrist. | Link: https://ausschreibungsradar.com/ausschreibung/24199734/
URL:https://ausschreibungsradar.com/ausschreibung/24199734/
END:VEVENT
END:VCALENDAR
