BEGIN:VCALENDAR
VERSION:2.0
PRODID:-//AusschreibungsRadar//Timeline//DE
CALSCALE:GREGORIAN
METHOD:PUBLISH
X-WR-CALNAME:Projekt BLB NRW NL Köln / Bundeskartellamt Bonn, Sanierung Haus 1, M
X-WR-TIMEZONE:Europe/Berlin
BEGIN:VEVENT
UID:663afd86775b3e84@ausschreibungsradar.com
DTSTAMP:20260424T143738Z
DTSTART;VALUE=DATE:20250709
DTEND;VALUE=DATE:20250709
SUMMARY:Ausschreibung — BLB NRW NL Köln / Bundeskartellamt Bonn\, Sanierung Haus 1\, M
DESCRIPTION:Phase: Ausschreibung | Beschreibung: Offizielle Ausschreibung mit Bieterfrist. | Link: https://ausschreibungsradar.com/ausschreibung/24098556/
URL:https://ausschreibungsradar.com/ausschreibung/24098556/
END:VEVENT
BEGIN:VEVENT
UID:566fdea13544b89a@ausschreibungsradar.com
DTSTAMP:20260424T143738Z
DTSTART;VALUE=DATE:20250711
DTEND;VALUE=DATE:20250711
SUMMARY:Ausschreibung — BLB NRW NL Köln / Bundeskartellamt Bonn\, Sanierung Haus 1\, M
DESCRIPTION:Phase: Ausschreibung | Beschreibung: Offizielle Ausschreibung mit Bieterfrist. | Link: https://ausschreibungsradar.com/ausschreibung/24113050/
URL:https://ausschreibungsradar.com/ausschreibung/24113050/
END:VEVENT
END:VCALENDAR
