BEGIN:VCALENDAR
VERSION:2.0
PRODID:-//AusschreibungsRadar//Timeline//DE
CALSCALE:GREGORIAN
METHOD:PUBLISH
X-WR-CALNAME:Projekt DGH Hecken- Küche (Edelstahl)
X-WR-TIMEZONE:Europe/Berlin
BEGIN:VEVENT
UID:7e4e0314dfc4bffc@ausschreibungsradar.com
DTSTAMP:20260424T233332Z
DTSTART;VALUE=DATE:20250714
DTEND;VALUE=DATE:20250714
SUMMARY:Ausschreibung — DGH Hecken- Küche (Edelstahl)
DESCRIPTION:Phase: Ausschreibung | Beschreibung: Offizielle Ausschreibung mit Bieterfrist. | Link: https://ausschreibungsradar.com/ausschreibung/24121210/
URL:https://ausschreibungsradar.com/ausschreibung/24121210/
END:VEVENT
BEGIN:VEVENT
UID:40c7b0d50f739aa0@ausschreibungsradar.com
DTSTAMP:20260424T233332Z
DTSTART;VALUE=DATE:20250731
DTEND;VALUE=DATE:20250731
SUMMARY:Ausschreibung — DGH Hecken- Küche (Edelstahl)
DESCRIPTION:Phase: Ausschreibung | Beschreibung: Offizielle Ausschreibung mit Bieterfrist. | Link: https://ausschreibungsradar.com/ausschreibung/24210306/
URL:https://ausschreibungsradar.com/ausschreibung/24210306/
END:VEVENT
END:VCALENDAR
