BEGIN:VCALENDAR
VERSION:2.0
PRODID:-//AusschreibungsRadar//Timeline//DE
CALSCALE:GREGORIAN
METHOD:PUBLISH
X-WR-CALNAME:Projekt Digitale Knotenpunkte
X-WR-TIMEZONE:Europe/Berlin
BEGIN:VEVENT
UID:f8a97517ff695f36@ausschreibungsradar.com
DTSTAMP:20260424T143740Z
DTSTART;VALUE=DATE:20250722
DTEND;VALUE=DATE:20250722
SUMMARY:Ausschreibung — Digitale Knotenpunkte
DESCRIPTION:Phase: Ausschreibung | Beschreibung: Offizielle Ausschreibung mit Bieterfrist. | Link: https://ausschreibungsradar.com/ausschreibung/24163706/
URL:https://ausschreibungsradar.com/ausschreibung/24163706/
END:VEVENT
BEGIN:VEVENT
UID:8c4cc279934417e0@ausschreibungsradar.com
DTSTAMP:20260424T143740Z
DTSTART;VALUE=DATE:20250722
DTEND;VALUE=DATE:20250722
SUMMARY:Ausschreibung — Digitale Knotenpunkte
DESCRIPTION:Phase: Ausschreibung | Beschreibung: Offizielle Ausschreibung mit Bieterfrist. | Link: https://ausschreibungsradar.com/ausschreibung/24160424/
URL:https://ausschreibungsradar.com/ausschreibung/24160424/
END:VEVENT
END:VCALENDAR
