BEGIN:VCALENDAR
VERSION:2.0
PRODID:-//AusschreibungsRadar//Timeline//DE
CALSCALE:GREGORIAN
METHOD:PUBLISH
X-WR-CALNAME:Projekt Durchführung des nichtschulischen Maßnahmenteils der koopera
X-WR-TIMEZONE:Europe/Berlin
BEGIN:VEVENT
UID:df653d72a30d846c@ausschreibungsradar.com
DTSTAMP:20260424T061927Z
DTSTART;VALUE=DATE:20250722
DTEND;VALUE=DATE:20250722
SUMMARY:Zuschlag — Durchführung des nichtschulischen Maßnahmenteils der koopera
DESCRIPTION:Phase: Zuschlag | Beschreibung: Vergabeergebnis — Auftrag wurde erteilt oder Verfahren beendet. | Link: https://ausschreibungsradar.com/ausschreibung/24164428/
URL:https://ausschreibungsradar.com/ausschreibung/24164428/
END:VEVENT
BEGIN:VEVENT
UID:9f125abda2dd474a@ausschreibungsradar.com
DTSTAMP:20260424T061927Z
DTSTART;VALUE=DATE:20250722
DTEND;VALUE=DATE:20250722
SUMMARY:Zuschlag — Durchführung des nichtschulischen Maßnahmenteils der koopera
DESCRIPTION:Phase: Zuschlag | Beschreibung: Vergabeergebnis — Auftrag wurde erteilt oder Verfahren beendet. | Link: https://ausschreibungsradar.com/ausschreibung/24164408/
URL:https://ausschreibungsradar.com/ausschreibung/24164408/
END:VEVENT
BEGIN:VEVENT
UID:b5c374c109e12261@ausschreibungsradar.com
DTSTAMP:20260424T061927Z
DTSTART;VALUE=DATE:20250722
DTEND;VALUE=DATE:20250722
SUMMARY:Zuschlag — Durchführung des nichtschulischen Maßnahmenteils der koopera
DESCRIPTION:Phase: Zuschlag | Beschreibung: Vergabeergebnis — Auftrag wurde erteilt oder Verfahren beendet. | Link: https://ausschreibungsradar.com/ausschreibung/24164412/
URL:https://ausschreibungsradar.com/ausschreibung/24164412/
END:VEVENT
BEGIN:VEVENT
UID:01f6eba59141c259@ausschreibungsradar.com
DTSTAMP:20260424T061927Z
DTSTART;VALUE=DATE:20250722
DTEND;VALUE=DATE:20250722
SUMMARY:Zuschlag — Durchführung des nichtschulischen Maßnahmenteils der koopera
DESCRIPTION:Phase: Zuschlag | Beschreibung: Vergabeergebnis — Auftrag wurde erteilt oder Verfahren beendet. | Link: https://ausschreibungsradar.com/ausschreibung/24164420/
URL:https://ausschreibungsradar.com/ausschreibung/24164420/
END:VEVENT
BEGIN:VEVENT
UID:78c2de5c8f47e93f@ausschreibungsradar.com
DTSTAMP:20260424T061927Z
DTSTART;VALUE=DATE:20250722
DTEND;VALUE=DATE:20250722
SUMMARY:Zuschlag — Durchführung des nichtschulischen Maßnahmenteils der koopera
DESCRIPTION:Phase: Zuschlag | Beschreibung: Vergabeergebnis — Auftrag wurde erteilt oder Verfahren beendet. | Link: https://ausschreibungsradar.com/ausschreibung/24164424/
URL:https://ausschreibungsradar.com/ausschreibung/24164424/
END:VEVENT
BEGIN:VEVENT
UID:1fb629f86546aa6e@ausschreibungsradar.com
DTSTAMP:20260424T061927Z
DTSTART;VALUE=DATE:20250722
DTEND;VALUE=DATE:20250722
SUMMARY:Zuschlag — Durchführung des nichtschulischen Maßnahmenteils der koopera
DESCRIPTION:Phase: Zuschlag | Beschreibung: Vergabeergebnis — Auftrag wurde erteilt oder Verfahren beendet. | Link: https://ausschreibungsradar.com/ausschreibung/24164416/
URL:https://ausschreibungsradar.com/ausschreibung/24164416/
END:VEVENT
END:VCALENDAR
