BEGIN:VCALENDAR
VERSION:2.0
PRODID:-//AusschreibungsRadar//Timeline//DE
CALSCALE:GREGORIAN
METHOD:PUBLISH
X-WR-CALNAME:Projekt Dachsanierung Café Burgliebe - Innenausbau
X-WR-TIMEZONE:Europe/Berlin
BEGIN:VEVENT
UID:13ffbb0d8856da72@ausschreibungsradar.com
DTSTAMP:20260425T102343Z
DTSTART;VALUE=DATE:20250725
DTEND;VALUE=DATE:20250725
SUMMARY:Ausschreibung — Dachsanierung Café Burgliebe - Innenausbau
DESCRIPTION:Phase: Ausschreibung | Beschreibung: Offizielle Ausschreibung mit Bieterfrist. | Link: https://ausschreibungsradar.com/ausschreibung/24182646/
URL:https://ausschreibungsradar.com/ausschreibung/24182646/
END:VEVENT
BEGIN:VEVENT
UID:b0fa39cddc7a9289@ausschreibungsradar.com
DTSTAMP:20260425T102343Z
DTSTART;VALUE=DATE:20250725
DTEND;VALUE=DATE:20250725
SUMMARY:Ausschreibung — Dachsanierung Café Burgliebe - Innenausbau
DESCRIPTION:Phase: Ausschreibung | Beschreibung: Offizielle Ausschreibung mit Bieterfrist. | Link: https://ausschreibungsradar.com/ausschreibung/24182668/
URL:https://ausschreibungsradar.com/ausschreibung/24182668/
END:VEVENT
END:VCALENDAR
