BEGIN:VCALENDAR
VERSION:2.0
PRODID:-//AusschreibungsRadar//Timeline//DE
CALSCALE:GREGORIAN
METHOD:PUBLISH
X-WR-CALNAME:Projekt Lieferung und Montage von elektronisch höhenverstellbaren Sc
X-WR-TIMEZONE:Europe/Berlin
BEGIN:VEVENT
UID:54b9458fae9cf234@ausschreibungsradar.com
DTSTAMP:20260424T111414Z
DTSTART;VALUE=DATE:20250729
DTEND;VALUE=DATE:20250729
SUMMARY:Ausschreibung — Lieferung und Montage von elektronisch höhenverstellbaren Sc
DESCRIPTION:Phase: Ausschreibung | Beschreibung: Offizielle Ausschreibung mit Bieterfrist. | Link: https://ausschreibungsradar.com/ausschreibung/24194734/
URL:https://ausschreibungsradar.com/ausschreibung/24194734/
END:VEVENT
BEGIN:VEVENT
UID:863b05b09c3b2cef@ausschreibungsradar.com
DTSTAMP:20260424T111414Z
DTSTART;VALUE=DATE:20250814
DTEND;VALUE=DATE:20250814
SUMMARY:Ausschreibung — Lieferung und Montage von elektronisch höhenverstellbaren Sc
DESCRIPTION:Phase: Ausschreibung | Beschreibung: Offizielle Ausschreibung mit Bieterfrist. | Link: https://ausschreibungsradar.com/ausschreibung/24270354/
URL:https://ausschreibungsradar.com/ausschreibung/24270354/
END:VEVENT
END:VCALENDAR
