BEGIN:VCALENDAR
VERSION:2.0
PRODID:-//AusschreibungsRadar//Timeline//DE
CALSCALE:GREGORIAN
METHOD:PUBLISH
X-WR-CALNAME:Projekt Neubau Feuerwehrgerätehaus in Grabow - Los 18
X-WR-TIMEZONE:Europe/Berlin
BEGIN:VEVENT
UID:3d00989dbd4194d4@ausschreibungsradar.com
DTSTAMP:20260424T090046Z
DTSTART;VALUE=DATE:20250801
DTEND;VALUE=DATE:20250801
SUMMARY:Ausschreibung — Neubau Feuerwehrgerätehaus in Grabow - Los 18
DESCRIPTION:Phase: Ausschreibung | Beschreibung: Offizielle Ausschreibung mit Bieterfrist. | Link: https://ausschreibungsradar.com/ausschreibung/24211400/
URL:https://ausschreibungsradar.com/ausschreibung/24211400/
END:VEVENT
BEGIN:VEVENT
UID:bcd92f77156a9f64@ausschreibungsradar.com
DTSTAMP:20260424T090046Z
DTSTART;VALUE=DATE:20250801
DTEND;VALUE=DATE:20250801
SUMMARY:Ausschreibung — Neubau Feuerwehrgerätehaus in Grabow - Los 18
DESCRIPTION:Phase: Ausschreibung | Beschreibung: Offizielle Ausschreibung mit Bieterfrist. | Link: https://ausschreibungsradar.com/ausschreibung/24211446/
URL:https://ausschreibungsradar.com/ausschreibung/24211446/
END:VEVENT
END:VCALENDAR
