BEGIN:VCALENDAR
VERSION:2.0
PRODID:-//AusschreibungsRadar//Timeline//DE
CALSCALE:GREGORIAN
METHOD:PUBLISH
X-WR-CALNAME:Projekt Mauerarbeiten
X-WR-TIMEZONE:Europe/Berlin
BEGIN:VEVENT
UID:b803ebb322867d70@ausschreibungsradar.com
DTSTAMP:20260424T094711Z
DTSTART;VALUE=DATE:20250804
DTEND;VALUE=DATE:20250804
SUMMARY:Ausschreibung — Mauerarbeiten
DESCRIPTION:Phase: Ausschreibung | Beschreibung: Offizielle Ausschreibung mit Bieterfrist. | Link: https://ausschreibungsradar.com/ausschreibung/24226062/
URL:https://ausschreibungsradar.com/ausschreibung/24226062/
END:VEVENT
BEGIN:VEVENT
UID:90adb875f7baf811@ausschreibungsradar.com
DTSTAMP:20260424T094711Z
DTSTART;VALUE=DATE:20250804
DTEND;VALUE=DATE:20250804
SUMMARY:Ausschreibung — Mauerarbeiten
DESCRIPTION:Phase: Ausschreibung | Beschreibung: Offizielle Ausschreibung mit Bieterfrist. | Link: https://ausschreibungsradar.com/ausschreibung/24226058/
URL:https://ausschreibungsradar.com/ausschreibung/24226058/
END:VEVENT
END:VCALENDAR
