BEGIN:VCALENDAR
VERSION:2.0
PRODID:-//AusschreibungsRadar//Timeline//DE
CALSCALE:GREGORIAN
METHOD:PUBLISH
X-WR-CALNAME:Projekt Betonarbeiten
X-WR-TIMEZONE:Europe/Berlin
BEGIN:VEVENT
UID:3dc37f828755307d@ausschreibungsradar.com
DTSTAMP:20260425T023012Z
DTSTART;VALUE=DATE:20250804
DTEND;VALUE=DATE:20250804
SUMMARY:Ausschreibung — Betonarbeiten
DESCRIPTION:Phase: Ausschreibung | Beschreibung: Offizielle Ausschreibung mit Bieterfrist. | Link: https://ausschreibungsradar.com/ausschreibung/24226078/
URL:https://ausschreibungsradar.com/ausschreibung/24226078/
END:VEVENT
BEGIN:VEVENT
UID:b5e01430d0b0ac55@ausschreibungsradar.com
DTSTAMP:20260425T023012Z
DTSTART;VALUE=DATE:20250804
DTEND;VALUE=DATE:20250804
SUMMARY:Ausschreibung — Betonarbeiten
DESCRIPTION:Phase: Ausschreibung | Beschreibung: Offizielle Ausschreibung mit Bieterfrist. | Link: https://ausschreibungsradar.com/ausschreibung/24226074/
URL:https://ausschreibungsradar.com/ausschreibung/24226074/
END:VEVENT
END:VCALENDAR
