BEGIN:VCALENDAR
VERSION:2.0
PRODID:-//AusschreibungsRadar//Timeline//DE
CALSCALE:GREGORIAN
METHOD:PUBLISH
X-WR-CALNAME:Projekt Heeresinstandsetzungslogistik GmbH, Werk St. Wendel, Erneuer
X-WR-TIMEZONE:Europe/Berlin
BEGIN:VEVENT
UID:657dc1324bad5e0f@ausschreibungsradar.com
DTSTAMP:20260425T142454Z
DTSTART;VALUE=DATE:20250806
DTEND;VALUE=DATE:20250806
SUMMARY:Ausschreibung — Heeresinstandsetzungslogistik GmbH\, Werk St. Wendel\, Erneuer
DESCRIPTION:Phase: Ausschreibung | Beschreibung: Offizielle Ausschreibung mit Bieterfrist. | Link: https://ausschreibungsradar.com/ausschreibung/24233086/
URL:https://ausschreibungsradar.com/ausschreibung/24233086/
END:VEVENT
BEGIN:VEVENT
UID:eff1914cd49dd70d@ausschreibungsradar.com
DTSTAMP:20260425T142454Z
DTSTART;VALUE=DATE:20250807
DTEND;VALUE=DATE:20250807
SUMMARY:Ausschreibung — Heeresinstandsetzungslogistik GmbH\, Werk St. Wendel\, Erneuer
DESCRIPTION:Phase: Ausschreibung | Beschreibung: Offizielle Ausschreibung mit Bieterfrist. | Link: https://ausschreibungsradar.com/ausschreibung/24239032/
URL:https://ausschreibungsradar.com/ausschreibung/24239032/
END:VEVENT
END:VCALENDAR
