BEGIN:VCALENDAR
VERSION:2.0
PRODID:-//AusschreibungsRadar//Timeline//DE
CALSCALE:GREGORIAN
METHOD:PUBLISH
X-WR-CALNAME:Projekt SEP GS Schützenstraße - Sanierung und Erweiterung - Schadsto
X-WR-TIMEZONE:Europe/Berlin
BEGIN:VEVENT
UID:598c758aed43e39f@ausschreibungsradar.com
DTSTAMP:20260425T120427Z
DTSTART;VALUE=DATE:20250807
DTEND;VALUE=DATE:20250807
SUMMARY:Zuschlag — SEP GS Schützenstraße - Sanierung und Erweiterung - Schadsto
DESCRIPTION:Phase: Zuschlag | Beschreibung: Vergabeergebnis — Auftrag wurde erteilt oder Verfahren beendet. | Link: https://ausschreibungsradar.com/ausschreibung/24245266/
URL:https://ausschreibungsradar.com/ausschreibung/24245266/
END:VEVENT
BEGIN:VEVENT
UID:b986a8895075b420@ausschreibungsradar.com
DTSTAMP:20260425T120427Z
DTSTART;VALUE=DATE:20250819
DTEND;VALUE=DATE:20250819
SUMMARY:Zuschlag — SEP GS Schützenstraße - Sanierung und Erweiterung - Schadsto
DESCRIPTION:Phase: Zuschlag | Beschreibung: Vergabeergebnis — Auftrag wurde erteilt oder Verfahren beendet. | Link: https://ausschreibungsradar.com/ausschreibung/24293254/
URL:https://ausschreibungsradar.com/ausschreibung/24293254/
END:VEVENT
BEGIN:VEVENT
UID:79bd4eaeb09a7aa4@ausschreibungsradar.com
DTSTAMP:20260425T120427Z
DTSTART;VALUE=DATE:20250902
DTEND;VALUE=DATE:20250902
SUMMARY:Ausschreibung — SEP GS Schützenstraße - Sanierung und Erweiterung - Schadsto
DESCRIPTION:Phase: Ausschreibung | Beschreibung: Offizielle Ausschreibung mit Bieterfrist. | Link: https://ausschreibungsradar.com/ausschreibung/40108e2b-a6fa-4616-873f-b3e1db52a785/
URL:https://ausschreibungsradar.com/ausschreibung/40108e2b-a6fa-4616-873f-b3e1db52a785/
END:VEVENT
END:VCALENDAR
