BEGIN:VCALENDAR
VERSION:2.0
PRODID:-//AusschreibungsRadar//Timeline//DE
CALSCALE:GREGORIAN
METHOD:PUBLISH
X-WR-CALNAME:Projekt INTERREG-Projekt: Schreinerarbeiten im bilingualen Multimedi
X-WR-TIMEZONE:Europe/Berlin
BEGIN:VEVENT
UID:bd58168d39731a8d@ausschreibungsradar.com
DTSTAMP:20260425T102354Z
DTSTART;VALUE=DATE:20250807
DTEND;VALUE=DATE:20250807
SUMMARY:Ausschreibung — INTERREG-Projekt: Schreinerarbeiten im bilingualen Multimedi
DESCRIPTION:Phase: Ausschreibung | Beschreibung: Offizielle Ausschreibung mit Bieterfrist. | Link: https://ausschreibungsradar.com/ausschreibung/24245750/
URL:https://ausschreibungsradar.com/ausschreibung/24245750/
END:VEVENT
BEGIN:VEVENT
UID:64e086f0997cbd22@ausschreibungsradar.com
DTSTAMP:20260425T102354Z
DTSTART;VALUE=DATE:20250807
DTEND;VALUE=DATE:20250807
SUMMARY:Ausschreibung — INTERREG-Projekt: Schreinerarbeiten im bilingualen Multimedi
DESCRIPTION:Phase: Ausschreibung | Beschreibung: Offizielle Ausschreibung mit Bieterfrist. | Link: https://ausschreibungsradar.com/ausschreibung/24245754/
URL:https://ausschreibungsradar.com/ausschreibung/24245754/
END:VEVENT
END:VCALENDAR
