BEGIN:VCALENDAR
VERSION:2.0
PRODID:-//AusschreibungsRadar//Timeline//DE
CALSCALE:GREGORIAN
METHOD:PUBLISH
X-WR-CALNAME:Projekt Neubau Feuerwehrgerätehaus Langenargen - Malerarbeiten
X-WR-TIMEZONE:Europe/Berlin
BEGIN:VEVENT
UID:0968e0ce8ee7a2b7@ausschreibungsradar.com
DTSTAMP:20260425T012717Z
DTSTART;VALUE=DATE:20250808
DTEND;VALUE=DATE:20250808
SUMMARY:Ausschreibung — Neubau Feuerwehrgerätehaus Langenargen - Malerarbeiten
DESCRIPTION:Phase: Ausschreibung | Beschreibung: Offizielle Ausschreibung mit Bieterfrist. | Link: https://ausschreibungsradar.com/ausschreibung/24250286/
URL:https://ausschreibungsradar.com/ausschreibung/24250286/
END:VEVENT
BEGIN:VEVENT
UID:1abb09f2dd5b8fb2@ausschreibungsradar.com
DTSTAMP:20260425T012717Z
DTSTART;VALUE=DATE:20250901
DTEND;VALUE=DATE:20250901
SUMMARY:Ausschreibung — Neubau Feuerwehrgerätehaus Langenargen - Malerarbeiten
DESCRIPTION:Phase: Ausschreibung | Beschreibung: Offizielle Ausschreibung mit Bieterfrist. | Link: https://ausschreibungsradar.com/ausschreibung/31f8641b-adac-4dcf-94e3-1681be8721bd/
URL:https://ausschreibungsradar.com/ausschreibung/31f8641b-adac-4dcf-94e3-1681be8721bd/
END:VEVENT
END:VCALENDAR
