BEGIN:VCALENDAR
VERSION:2.0
PRODID:-//AusschreibungsRadar//Timeline//DE
CALSCALE:GREGORIAN
METHOD:PUBLISH
X-WR-CALNAME:Projekt Gemeinde Barbing - Anbau an das Feuerwehrgerätehaus Sarching
X-WR-TIMEZONE:Europe/Berlin
BEGIN:VEVENT
UID:c71425ff31fa9414@ausschreibungsradar.com
DTSTAMP:20260424T034912Z
DTSTART;VALUE=DATE:20250729
DTEND;VALUE=DATE:20250729
SUMMARY:Ausschreibung — Gemeinde Barbing - Anbau an das Feuerwehrgerätehaus Sarching
DESCRIPTION:Phase: Ausschreibung | Beschreibung: Offizielle Ausschreibung mit Bieterfrist. | Link: https://ausschreibungsradar.com/ausschreibung/24199750/
URL:https://ausschreibungsradar.com/ausschreibung/24199750/
END:VEVENT
BEGIN:VEVENT
UID:e24a7884c6286156@ausschreibungsradar.com
DTSTAMP:20260424T034912Z
DTSTART;VALUE=DATE:20250729
DTEND;VALUE=DATE:20250729
SUMMARY:Ausschreibung — Gemeinde Barbing - Anbau an das Feuerwehrgerätehaus Sarching
DESCRIPTION:Phase: Ausschreibung | Beschreibung: Offizielle Ausschreibung mit Bieterfrist. | Link: https://ausschreibungsradar.com/ausschreibung/24199734/
URL:https://ausschreibungsradar.com/ausschreibung/24199734/
END:VEVENT
BEGIN:VEVENT
UID:d7f2afa9eac4d95e@ausschreibungsradar.com
DTSTAMP:20260424T034912Z
DTSTART;VALUE=DATE:20250811
DTEND;VALUE=DATE:20250811
SUMMARY:Zuschlag — Gemeinde Barbing - Anbau an das Feuerwehrgerätehaus Sarching
DESCRIPTION:Phase: Zuschlag | Beschreibung: Vergabeergebnis — Auftrag wurde erteilt oder Verfahren beendet. | Link: https://ausschreibungsradar.com/ausschreibung/24257888/
URL:https://ausschreibungsradar.com/ausschreibung/24257888/
END:VEVENT
BEGIN:VEVENT
UID:d4164c0d9d1cc30e@ausschreibungsradar.com
DTSTAMP:20260424T034912Z
DTSTART;VALUE=DATE:20250903
DTEND;VALUE=DATE:20250903
SUMMARY:Ausschreibung — Gemeinde Barbing - Anbau an das Feuerwehrgerätehaus Sarching
DESCRIPTION:Phase: Ausschreibung | Beschreibung: Offizielle Ausschreibung mit Bieterfrist. | Link: https://ausschreibungsradar.com/ausschreibung/24359054/
URL:https://ausschreibungsradar.com/ausschreibung/24359054/
END:VEVENT
BEGIN:VEVENT
UID:cfcf65d70a52dcf3@ausschreibungsradar.com
DTSTAMP:20260424T034912Z
DTSTART;VALUE=DATE:20250904
DTEND;VALUE=DATE:20250904
SUMMARY:Zuschlag — Gemeinde Barbing - Anbau an das Feuerwehrgerätehaus Sarching
DESCRIPTION:Phase: Zuschlag | Beschreibung: Vergabeergebnis — Auftrag wurde erteilt oder Verfahren beendet. | Link: https://ausschreibungsradar.com/ausschreibung/24365514/
URL:https://ausschreibungsradar.com/ausschreibung/24365514/
END:VEVENT
BEGIN:VEVENT
UID:22a4f4c0481c05c1@ausschreibungsradar.com
DTSTAMP:20260424T034912Z
DTSTART;VALUE=DATE:20250904
DTEND;VALUE=DATE:20250904
SUMMARY:Ausschreibung — Gemeinde Barbing - Anbau an das Feuerwehrgerätehaus Sarching
DESCRIPTION:Phase: Ausschreibung | Beschreibung: Offizielle Ausschreibung mit Bieterfrist. | Link: https://ausschreibungsradar.com/ausschreibung/24365594/
URL:https://ausschreibungsradar.com/ausschreibung/24365594/
END:VEVENT
END:VCALENDAR
